BEGIN:VCALENDAR
VERSION:2.0
PRODID:-//RockNews.mx - ECPv6.15.13.1//NONSGML v1.0//EN
CALSCALE:GREGORIAN
METHOD:PUBLISH
X-WR-CALNAME:RockNews.mx
X-ORIGINAL-URL:https://rocknews.mx
X-WR-CALDESC:Eventos para RockNews.mx
REFRESH-INTERVAL;VALUE=DURATION:PT1H
X-Robots-Tag:noindex
X-PUBLISHED-TTL:PT1H
BEGIN:VTIMEZONE
TZID:America/Chicago
BEGIN:DAYLIGHT
TZOFFSETFROM:-0600
TZOFFSETTO:-0500
TZNAME:CDT
DTSTART:20250309T080000
END:DAYLIGHT
BEGIN:STANDARD
TZOFFSETFROM:-0500
TZOFFSETTO:-0600
TZNAME:CST
DTSTART:20251102T070000
END:STANDARD
BEGIN:DAYLIGHT
TZOFFSETFROM:-0600
TZOFFSETTO:-0500
TZNAME:CDT
DTSTART:20260308T080000
END:DAYLIGHT
BEGIN:STANDARD
TZOFFSETFROM:-0500
TZOFFSETTO:-0600
TZNAME:CST
DTSTART:20261101T070000
END:STANDARD
BEGIN:DAYLIGHT
TZOFFSETFROM:-0600
TZOFFSETTO:-0500
TZNAME:CDT
DTSTART:20270314T080000
END:DAYLIGHT
BEGIN:STANDARD
TZOFFSETFROM:-0500
TZOFFSETTO:-0600
TZNAME:CST
DTSTART:20271107T070000
END:STANDARD
END:VTIMEZONE
BEGIN:VEVENT
DTSTART;TZID=America/Chicago:20260228T150000
DTEND;TZID=America/Chicago:20260228T233000
DTSTAMP:20260421T164853
CREATED:20260112T170139Z
LAST-MODIFIED:20260112T170842Z
UID:346-1772290800-1772321400@rocknews.mx
SUMMARY:Doom City Fest 2026 - CDMX\, Mex. 2026
DESCRIPTION:Doom City Fest 2026 se realizará en CDMX este 28 de febrero\nEl Doom City Fest 2026 confirma su regreso a la Ciudad de México con la cuarta edición de su festival dedicado a los sonidos más pesados del metal. El evento se llevará a cabo el 28 de febrero en el Foro Sangriento\, consolidándose como una de las citas más importantes para los seguidores del doom y sus vertientes. \nEste festival internacional reúne propuestas de Doom Metal\, Sludge\, Post-Metal y Stoner\, apostando por una experiencia intensa\, cargada de atmósferas densas y riffs aplastantes. \nLineup del Doom City Fest 2026\nLa edición 2026 contará con un cartel de alto calibre encabezado por bandas clave de la escena internacional y proyectos sólidos del circuito underground: \nYob\, Pelican\, Primitive Man\, Mephistofeles\, Terror Cósmico\, Apocalipsis\, Ocultum\, Jaspe y Cotton Mouth. \nBoletos y sede\nEl Foro Sangriento de CDMX será el epicentro de esta ceremonia sonora.Los boletos para el Doom City Fest 2026 ya están disponibles a través de Passline.com. \nEl festival se perfila como una fecha obligada para quienes buscan pesadez\, oscuridad y una curaduría enfocada en el lado más crudo del metal.
URL:https://rocknews.mx/evento/doom-city-fest-2026-cdmx-mex-2026/
LOCATION:Sangriento\, Primavera 106\, Ángel Zimbrón\, Miguel Hidalgo\, CDMX\, CDMX\, 02099\, Mexico
CATEGORIES:Festival
ATTACH;FMTTYPE=image/jpeg:https://rocknews.mx/wp-content/uploads/2026/01/Doom-City-Fest-2026-FT.jpg
END:VEVENT
BEGIN:VEVENT
DTSTART;TZID=America/Chicago:20260227T190000
DTEND;TZID=America/Chicago:20260227T233000
DTSTAMP:20260421T164853
CREATED:20260112T191625Z
LAST-MODIFIED:20260112T191626Z
UID:374-1772218800-1772235000@rocknews.mx
SUMMARY:Trouble - Monterrey\, Mex. 2026
DESCRIPTION:Trouble se presentará en Monterrey como parte de su gira 2026\nTrouble\, una de las bandas más influyentes del doom metal\, también visitará Monterrey como parte de su esperada gira por México. La presentación está programada para el 27 de febrero de 2026 en el Café Iguana\, uno de los foros más representativos del rock y metal en el norte del país. \nCon más de cuatro décadas de trayectoria\, Trouble ha dejado una huella profunda en la escena underground gracias a su sonido pesado\, melódico y cargado de simbolismo. Este concierto será una oportunidad única para presenciar en vivo a una banda fundamental del metal extremo. \nLa fecha en Monterrey se perfila como una noche intensa para los seguidores del doom clásico y el heavy metal de raíces oscuras. \nVisita https://www.facebook.com/dvemx
URL:https://rocknews.mx/evento/trouble-monterrey-mex-2026/
LOCATION:Café Iguana\, C. Diego de Montemayor 927-Sur\, Barrio Antiguo\, Centro\, Monterrey\, Nuevo León\, 64000\, Mexico
CATEGORIES:Concierto
ATTACH;FMTTYPE=image/jpeg:https://rocknews.mx/wp-content/uploads/2026/01/Trouble-Metal-Monterrey-2026-Ft.jpg
ORGANIZER;CN="Dark Vission Entertainment":MAILTO:reyes@dve.com.mx
END:VEVENT
BEGIN:VEVENT
DTSTART;TZID=America/Chicago:20260222T170000
DTEND;TZID=America/Chicago:20260222T233000
DTSTAMP:20260421T164853
CREATED:20260111T223313Z
LAST-MODIFIED:20260111T223359Z
UID:312-1771779600-1771803000@rocknews.mx
SUMMARY:Todos Somos Angeles Rock Fest 2026 - Monterrey\, Mex. 2026
DESCRIPTION:El Todos Somos Angeles Rock Fest 2026 Monterrey aterriza en la Arena Monterrey con un cartel sólido y contundente. Angeles Del Infierno lidera una noche pensada para los fans del metal clásico y moderno. \nKabrönes mantiene el pulso pesado. Saratoga eleva el nivel instrumental. Trágico Ballet aporta identidad nacional. Nightrise suma energía fresca al escenario regio. \nEn esta fecha\, Angeles Del Infierno tendrá como único invitado especial a Leo Jiménez\, una de las voces más respetadas del metal en español. \nLineup\n\n\n\n\n\nAngeles Del Infierno \n\n\nKabrönes \n\n\nSaratoga \n\n\nTrágico Ballet \n\n\nNightrise \n\n\n\n\n\n\nInvitado especial:\n\n\nLeo Jiménez\n\n\nAdquiere tus entradas en https://tsarockfest.com/tickets/
URL:https://rocknews.mx/evento/todos-somos-angeles-rock-fest-2026-monterrey-mex-2026/
LOCATION:Arena Monterrey\, Av. Francisco I. Madero 2500\, Centro\, Monterrey\, Nuevo León\, 64010\, Mexico
CATEGORIES:Festival
ATTACH;FMTTYPE=image/jpeg:https://rocknews.mx/wp-content/uploads/2026/01/mty_2026_h_logo.jpg
END:VEVENT
BEGIN:VEVENT
DTSTART;TZID=America/Chicago:20260215T180000
DTEND;TZID=America/Chicago:20260215T230000
DTSTAMP:20260421T164853
CREATED:20260111T212610Z
LAST-MODIFIED:20260111T212714Z
UID:296-1771178400-1771196400@rocknews.mx
SUMMARY:Todos Somos Angeles Rock Fest 2026 - CDMX\, Mex. 2026
DESCRIPTION:El Todos Somos Angeles Rock Fest 2026 CDMX llega a la Arena CDMX con una alineación histórica. Angeles Del Infierno encabeza una noche dedicada al heavy metal en español. La banda celebra su legado con invitados especiales de alto calibre. \nEl cartel reúne a figuras clave del metal iberoamericano. Kabrönes aporta potencia directa. Saratoga suma técnica y melodía. Trágico Ballet mantiene viva la oscuridad del metal mexicano. Transmetal completa el ritual con thrash de vieja escuela. \nAngeles Del Infierno contará con Benny Rotten y Leo Jiménez como invitados especiales. Dos voces\, una misma causa. Metal sin concesiones. \nLineup\n\n\n\n\n\nAngeles Del Infierno \n\n\nKabrönes \n\n\nSaratoga \n\n\nTrágico Ballet \n\n\nTransmetal \n\n\n\n\n\n\nInvitados especiales:\n\n\n\n\n\nBenny Rotten \n\n\nLeo Jiménez \n\n\n\n\n\n\nAdquiere tus entradas en https://tsarockfest.com/tickets/
URL:https://rocknews.mx/evento/todos-somos-angeles-rock-fest-2026-cdmx-mex-2026/
LOCATION:Arena CDMX\, Av. de las Granjas 800\, Santa Barbara\, Azcapotzalco\, CDMX\, CDMX\, 02230\, Mexico
CATEGORIES:Festival
ATTACH;FMTTYPE=image/jpeg:https://rocknews.mx/wp-content/uploads/2026/01/Todos-Somos-Angeles-Rock-Fest-2026-CDMX-FT.jpg
END:VEVENT
BEGIN:VEVENT
DTSTART;TZID=America/Chicago:20260205T190000
DTEND;TZID=America/Chicago:20260205T233000
DTSTAMP:20260421T164853
CREATED:20260126T170512Z
LAST-MODIFIED:20260126T172326Z
UID:433-1770318000-1770334200@rocknews.mx
SUMMARY:Tribulation en CDMX\, Mex. 2026
DESCRIPTION:Tribulation en CDMX\nTribulation en CDMX llega al Multiforo Alicia el 5 de febrero con una noche oscura\, elegante y contundente para devotos del metal gótico. \nLa preventa cuesta $850 y el acceso general $900 mediante arema.mx\, plataforma oficial que ya habilitó boletos para un aforo limitado y alta expectativa. \nTribulation con invitada especial en batería\nLa gira latinoamericana tendrá un giro especial\, Oscar Leander no participará por causas personales y su lugar será ocupado por Luana Dametto\, baterista de Crypta. \nLa propuesta sonora de Tribulation fusiona oscuridad melódica\, teatralidad y riffs ceremoniales\, creando una experiencia hipnótica en directo que suele convertir recinto en ritual colectivo. \nEl Multiforo Alicia promete una velada íntima y eléctrica\, ideal para seguidores fieles y nuevos curiosos que buscan conciertos intensos\, cercanos y memorables en 2026. \nProducido por Eyescream Productions!
URL:https://rocknews.mx/evento/tribulation-en-cdmx-mex-2026/
LOCATION:Multiforo Alicia\, C. Eligio Ancona 145\, Sta María la Ribera\, Cuauhtémoc\, CDMX\, CDMX\, 06400\, Mexico
CATEGORIES:Concierto
ATTACH;FMTTYPE=image/jpeg:https://rocknews.mx/wp-content/uploads/2026/01/Tribulation-CDMX-2026-FT.jpg
ORGANIZER;CN="Eyescream Productions":MAILTO:info@eyescreamconcerts.com
END:VEVENT
BEGIN:VEVENT
DTSTART;TZID=America/Chicago:20260205T190000
DTEND;TZID=America/Chicago:20260205T233000
DTSTAMP:20260421T164853
CREATED:20260125T220557Z
LAST-MODIFIED:20260125T230924Z
UID:416-1770318000-1770334200@rocknews.mx
SUMMARY:Obituary - CDMX\, Mex. 2026
DESCRIPTION:Obituary en Foro Indie Rocks sacudirá Ciudad de México este 5 de febrero con ritual death metal intenso\, producción sólida\, convocatoria imperdible y ejecución brutal garantizada. \nObituary en Foro Indie Rocks!\n \nEyescream Productions confirma presentación histórica interpretando íntegro el álbum Cause of Death\, además de clásicos devastadores. Setlist extenso\, sonido demoledor\, atmósfera claustrofóbica y comunión total. \nBoletos disponibles ahora en https://feverup.com/m/521421. Foro Indie Rocks abrirá puertas temprano; recomienda llegar con anticipación. Prepárate para sudor\, pogos controlados\, merch codiciado y recuerdos imborrables noche.
URL:https://rocknews.mx/evento/obituary-cdmx-mex-2026/
LOCATION:Foro Indie Rocks!\, Zacatecas 39\, Roma Nte.\, Cuauhtémoc\, CDMX\, CDMX\, 06700\, Mexico
CATEGORIES:Concierto
ATTACH;FMTTYPE=image/jpeg:https://rocknews.mx/wp-content/uploads/2026/01/Obituary-CDMX-2026-FT.jpg
ORGANIZER;CN="Eyescream Productions":MAILTO:info@eyescreamconcerts.com
END:VEVENT
BEGIN:VEVENT
DTSTART;TZID=America/Chicago:20260201T200000
DTEND;TZID=America/Chicago:20260201T233000
DTSTAMP:20260421T164853
CREATED:20260126T010618Z
LAST-MODIFIED:20260126T010619Z
UID:427-1769976000-1769988600@rocknews.mx
SUMMARY:Death To All - CDMX\, Mex. 2026
DESCRIPTION:Death To All tendrá una presentación especial este 1 de febrero en el Circo Volador\, con producción de Eyescream Productions\, ofreciendo una noche dedicada a celebrar el legado musical de Death. \nDeath To All celebra dos álbumes históricos\nEl concierto conmemorará el 35 aniversario de Spiritual Healing y el 30 aniversario de Symbolic\, dos discos esenciales que marcaron la evolución técnica\, melódica y conceptual del death metal. \nDeath To All es un proyecto creado para preservar la obra de Death con respeto absoluto. Participan músicos vinculados directamente a la historia de la banda original. \nEl evento también honra la memoria y el impacto artístico de Chuck Schuldiner\, fundador de Death\, reconocido mundialmente por su visión musical\, ética independiente y contribución al metal extremo. \nLa fecha en el Circo Volador promete una experiencia cargada de emoción\, fidelidad sonora y conexión histórica\, dirigida a seguidores que valoran profundamente el legado de una banda irrepetible.
URL:https://rocknews.mx/evento/death-to-all-cdmx-mex-2026/
LOCATION:Circo Volador\, Calz. de la Viga 146\, Jamaica\, Venustiano Carranza\, CDMX\, CDMX\, 15800\, Mexico
CATEGORIES:Concierto
ATTACH;FMTTYPE=image/jpeg:https://rocknews.mx/wp-content/uploads/2026/01/Death-To-All-CDMX-2026-FT.jpg
ORGANIZER;CN="Eyescream Productions":MAILTO:info@eyescreamconcerts.com
END:VEVENT
BEGIN:VEVENT
DTSTART;TZID=America/Chicago:20260131T150000
DTEND;TZID=America/Chicago:20260131T233000
DTSTAMP:20260421T164853
CREATED:20260109T042833Z
LAST-MODIFIED:20260109T042834Z
UID:271-1769871600-1769902200@rocknews.mx
SUMMARY:Azermedoth Metal Fest II - CDMX\, Mex. 2026
DESCRIPTION:Azermedoth Metal Fest II desatará el metal extremo en CDMX\n \nAzermedoth Metal Fest II en CDMX | Festival de metal extremo\nEl Azermedoth Metal Fest II llegará a la Ciudad de México con una jornada dedicada al metal extremo internacional. \nEl festival se realizará el 31 de enero en el Zombie Diner\, reuniendo bandas de distintas vertientes extremas. \nLa edición contará con Azaghal como banda principal\, liderando un cartel amplio y diverso. \n\nAzermedoth Metal Fest II en CDMX | Cartel completo\nAzaghal encabezará el festival con su black metal directo desde Finlandia. \nDesde Estados Unidos\, Morbosidad aportará su brutalidad dentro del metal extremo. \nTsatthoggua\, desde Alemania\, presentará su propuesta oscura y agresiva. \nDesde Colombia\, Utuk Xul y Templa In Cinere sumarán intensidad y atmósferas extremas. \nLa escena nacional estará representada por Hall Of Misery\, Night\, Vampiric Funeral\, Nelchael\, Suicide Nazareth y Niggurath. \nEl cartel consolida una noche dedicada a la crudeza y diversidad del metal extremo. \n\nAzermedoth Metal Fest II en CDMX | Fecha y sede\nEl festival se realizará el 31 de enero en el Zombie Diner de la Ciudad de México. \nLa sede recibirá una descarga sonora con propuestas internacionales y nacionales.
URL:https://rocknews.mx/evento/azermedoth-metal-fest-ii-cdmx-mex-2026/
LOCATION:Zombie Diner\, Calz. de Tlalpan 618\, Moderna\, Benito Juárez\, CDMX\, CDMX\, 03510\, Mexico
CATEGORIES:Festival
ATTACH;FMTTYPE=image/jpeg:https://rocknews.mx/wp-content/uploads/2026/01/Azermedoth-Metal-Fest-II-CDMX-2026-FT.jpg
END:VEVENT
BEGIN:VEVENT
DTSTART;TZID=America/Chicago:20260130T190000
DTEND;TZID=America/Chicago:20260130T233000
DTSTAMP:20260421T164853
CREATED:20260109T035916Z
LAST-MODIFIED:20260109T035917Z
UID:259-1769799600-1769815800@rocknews.mx
SUMMARY:Zemial y Azaghal - San Luis Potosí\, Mex. 2026
DESCRIPTION:Zemial y Azaghal encabezarán noche de metal extremo en San Luis Potosí\n \nZemial y Azaghal en San Luis Potosí | Concierto de metal extremo\nZemial y Azaghal encabezarán una noche dedicada al metal extremo en San Luis Potosí. \nEl concierto se realizará el 30 de enero en el Infervm Bar\, con un cartel internacional de alto impacto. \nLa fecha reunirá propuestas clave del black metal y el black thrash metal europeo. \nZemial y Azaghal en San Luis Potosí | Bandas participantes\nZemial\, desde Grecia\, presentará su black thrash metal\, marcado por velocidad y agresión. \nAzaghal\, originarios de Finlandia\, desplegarán su black metal crudo y directo. \nComo bandas invitadas\, el evento contará con Unbounded Terror\, referentes del death metal español. \nGolgotha se sumará con su propuesta de doom death\, enfocada en peso y atmósferas densas. \nFull Öf Hate aportará su black metal desde México\, con un set agresivo y frontal. \nFuneral Christ completará el cartel con una descarga de black metal oscuro y contundente. \nEl lineup promete una velada sólida y extrema. \nZemial y Azaghal en San Luis Potosí | Fecha y sede\nEl evento se realizará el 30 de enero en el Infervm Bar de San Luis Potosí. \nLa sede recibirá una noche intensa dedicada al metal extremo internacional.
URL:https://rocknews.mx/evento/zemial-azaghal-san-luis-potosi-mex-2026/
LOCATION:Infervm Bar\, Simón Bolívar 305\, Centro Historico\, San Luis Potosí\, San Luis Potosí\, 78000\, Mexico
CATEGORIES:Concierto
ATTACH;FMTTYPE=image/jpeg:https://rocknews.mx/wp-content/uploads/2026/01/Zemial-Azaghal-San-Luis-Potosi-2026-FT.jpg
END:VEVENT
BEGIN:VEVENT
DTSTART;TZID=America/Chicago:20260129T173000
DTEND;TZID=America/Chicago:20260129T233000
DTSTAMP:20260421T164853
CREATED:20260108T184924Z
LAST-MODIFIED:20260109T033011Z
UID:249-1769707800-1769729400@rocknews.mx
SUMMARY:Voces Del Inframundo - Morelia\, Mex. 2026
DESCRIPTION:Voces del Inframundo reunirá metal extremo internacional en Morelia\n \nVoces del Inframundo en Morelia | Festival de metal extremo\nEl festival Voces del Inframundo llegará a Morelia con una jornada dedicada al metal extremo internacional. \nEl evento se realizará el 29 de enero en el Salón Club de Leones\, reuniendo propuestas oscuras y contundentes. \nEl festival destaca por su curaduría enfocada en sonidos extremos\, atmósferas densas y diversidad de subgéneros. \n\nVoces del Inframundo en Morelia | Cartel internacional\nAzaghal encabezará el festival con su black metal directo desde Finlandia. \nDesde Grecia\, Zemial presentará su mezcla de black thrash metal\, marcada por velocidad y agresión. \nGolgotha llegará desde España con su propuesta de doom death\, enfocada en peso y atmósferas oscuras. \nTambién desde España\, Unbounded Terror descargará su death metal clásico y contundente. \nDesde Chile\, Duur aportará una experiencia de medieval cave ambience\, ampliando el espectro sonoro del festival. \nFull of Hate representará a México con un set de black metal crudo y directo. \nEl cartel consolida una noche dedicada a distintas vertientes del metal extremo. \n\nVoces del Inframundo en Morelia | Fecha y sede\nEl festival se celebrará el 29 de enero en el Salón Club de Leones de Morelia. \nLa sede recibirá a bandas internacionales y nacionales en un entorno íntimo y oscuro. \nConfirma tu asistencia: https://www.facebook.com/share/1BrVqvrVvZ/
URL:https://rocknews.mx/evento/voces-del-inframundo-morelia-mex-2026/
LOCATION:Salón Club De Leones\, Tata Vasco No.1 Col. Vasco De Quiroga\, Morelia\, Michoacan\, 58000\, Mexico
CATEGORIES:Festival
ATTACH;FMTTYPE=image/jpeg:https://rocknews.mx/wp-content/uploads/2026/01/Voces-del-Inframundo-Fest-2026-FT.jpg
END:VEVENT
BEGIN:VEVENT
DTSTART;TZID=America/Chicago:20260128T193000
DTEND;TZID=America/Chicago:20260128T233000
DTSTAMP:20260421T164853
CREATED:20260108T182205Z
LAST-MODIFIED:20260109T035302Z
UID:236-1769628600-1769643000@rocknews.mx
SUMMARY:Azaghal - Guadalajara\, Mex. 2026
DESCRIPTION:Azaghal en Guadalajara | Concierto en México 2026\nLa banda finlandesa Azaghal llegará a México para ofrecer un ritual de black metal como parte de su gira internacional. \nEl grupo se presentará el 28 de enero en el Anexo Independencia\, con un show marcado por crudeza\, velocidad y atmósferas oscuras. \nAzaghal mantiene una propuesta directa\, agresiva y fiel al espíritu del black metal europeo. \nEl concierto apunta a una experiencia intensa\, enfocada en riffs abrasivos y una presencia escénica implacable. \n\nAzaghal en Guadalajara | Bandas invitadas\nEl evento contará con tres bandas invitadas que reforzarán la noche de metal extremo. \nFull Öf Hate abrirá el ritual con su mezcla de Black / Speed N Roll\, aportando velocidad y actitud directa. \nInvocatio se sumará con una propuesta de black metal crudo y atmosférico. \nSaturnal Ascension completará el cartel con un enfoque oscuro y contundente dentro del black metal. \nLa combinación promete una velada sólida dedicada al metal extremo. \n \n\nAzaghal en Guadalajara | Fecha y sede\nAzaghal se presentará el 28 de enero en el Anexo Independencia. \nEl show reunirá propuestas nacionales e internacionales dentro del black metal y sus vertientes.
URL:https://rocknews.mx/evento/azaghal-guadalajara-mex-2026/
LOCATION:Anexo Independencia\, Epigmenio González 54\, Mexicaltzingo\, Guadalajara\, Jalisco\, 44180\, Mexico
CATEGORIES:Concierto
ATTACH;FMTTYPE=image/jpeg:https://rocknews.mx/wp-content/uploads/2026/01/Azaghal-en-Guadalajara-FT-2026.jpg
END:VEVENT
BEGIN:VEVENT
DTSTART;TZID=America/Chicago:20260127T190000
DTEND;TZID=America/Chicago:20260127T233000
DTSTAMP:20260421T164853
CREATED:20260105T182751Z
LAST-MODIFIED:20260105T194519Z
UID:112-1769540400-1769556600@rocknews.mx
SUMMARY:Dark Tranquility - Monterrey\, Mex. 2026
DESCRIPTION:Los pioneros del death metal melódico\, Dark Tranquillity\, regresan a México para presentarse en Monterrey este 27 de enero en el Café Iguana\, como parte de su gira internacional “The Character Gallery Tour”. \nLa banda sueca\, referente del metal extremo europeo\, promete una noche intensa con un setlist que recorrerá lo más representativo de su discografía\, combinando clásicos y material reciente\, en uno de los conciertos de metal más esperados del año en México. \n\n\n📅 27 de enero\n📍 Café Iguana\, Monterrey\, México\n🎸 Como parte de su “The Character Gallery Tour”\n🎟️ ya disponibles en PassLine\n\n\nCompra de boletos: https://www.passline.com/eventos/dark-tranquility-en-monterrey
URL:https://rocknews.mx/evento/dark-tranquility-monterrey-mex-2026/
LOCATION:Café Iguana\, C. Diego de Montemayor 927-Sur\, Barrio Antiguo\, Centro\, Monterrey\, Nuevo León\, 64000\, Mexico
CATEGORIES:Concierto
ATTACH;FMTTYPE=image/jpeg:https://rocknews.mx/wp-content/uploads/2026/01/Dark-Tranquility-en-MX-FT.jpg
END:VEVENT
BEGIN:VEVENT
DTSTART;TZID=America/Chicago:20260125T190000
DTEND;TZID=America/Chicago:20260125T233000
DTSTAMP:20260421T164853
CREATED:20260105T195529Z
LAST-MODIFIED:20260105T195529Z
UID:124-1769367600-1769383800@rocknews.mx
SUMMARY:Dark Tranquility - Chihuahua\, Mex. 2026
DESCRIPTION:Los pioneros del death metal melódico\, Dark Tranquillity\, regresan a México para presentarse en Chihuahua este 25 de enero en el Pistoleros House Of Shows\, como parte de su gira internacional “The Character Gallery Tour”. \nLa banda sueca\, referente del metal extremo europeo\, promete una noche intensa con un setlist que recorrerá lo más representativo de su discografía\, combinando clásicos y material reciente\, en uno de los conciertos de metal más esperados del año en México. \n\n\n📅 25 de enero\n📍 Pistoleros House Of Shows\, Chihuahua\, México\n🎸 Como parte de su “The Character Gallery Tour”
URL:https://rocknews.mx/evento/dark-tranquility-chihuahua-mex-2026/
LOCATION:Pistoleros House Of Shows\, Lucio Alvarado 200\, Deportistas\, Chihuahua\, Chihuahua\, 31125\, Mexico
CATEGORIES:Concierto
ATTACH;FMTTYPE=image/jpeg:https://rocknews.mx/wp-content/uploads/2026/01/Dark-Tranquility-en-MX-FT.jpg
END:VEVENT
BEGIN:VEVENT
DTSTART;TZID=America/Chicago:20260124T190000
DTEND;TZID=America/Chicago:20260124T233000
DTSTAMP:20260421T164853
CREATED:20260105T180957Z
LAST-MODIFIED:20260105T194455Z
UID:103-1769281200-1769297400@rocknews.mx
SUMMARY:Dark Tranquility - CDMX\, Mex. 2026
DESCRIPTION:Los pioneros del death metal melódico\, Dark Tranquillity\, regresan a México para presentarse en CDMX este 24 de enero en el Circo Volador\, como parte de su gira internacional “The Character Gallery Tour”. \nLa banda sueca\, referente del metal extremo europeo\, promete una noche intensa con un setlist que recorrerá lo más representativo de su discografía\, combinando clásicos y material reciente\, en uno de los conciertos de metal más esperados del año en México. \n📅 24 de enero\n📍 Circo Volador\, CDMX\, México\n🎸 Como parte de su “The Character Gallery Tour”\n🎟️ ya disponibles en Superboletos \nCompra de boletos: https://www.superboletos.com/landing-evento/5VKtCAqGyX0amHnuZ_0lcw
URL:https://rocknews.mx/evento/dark-tranquility-cdmx-mex-2026/
LOCATION:Circo Volador\, Calz. de la Viga 146\, Jamaica\, Venustiano Carranza\, CDMX\, CDMX\, 15800\, Mexico
CATEGORIES:Concierto
ATTACH;FMTTYPE=image/jpeg:https://rocknews.mx/wp-content/uploads/2026/01/Dark-Tranquility-en-MX-FT.jpg
END:VEVENT
BEGIN:VEVENT
DTSTART;TZID=America/Chicago:20260123T190000
DTEND;TZID=America/Chicago:20260123T233000
DTSTAMP:20260421T164853
CREATED:20260105T022310Z
LAST-MODIFIED:20260105T194428Z
UID:75-1769194800-1769211000@rocknews.mx
SUMMARY:Dark Tranquility - Guadalajara\, Mex. 2026
DESCRIPTION:Los pioneros del death metal melódico\, Dark Tranquillity\, regresan a México para presentarse en Guadalajara este 23 de enero en el C3 Stage\, como parte de su gira internacional “The Character Gallery Tour”. \nLa banda sueca\, referente del metal extremo europeo\, promete una noche intensa con un setlist que recorrerá lo más representativo de su discografía\, combinando clásicos y material reciente\, en uno de los conciertos de metal más esperados del año en Jalisco. \n\n\n📅 23 de enero\n📍 C3 Stage\, Guadalajara\, México\n🎸 Como parte de su “The Character Gallery Tour”\n🎟️ ya disponibles en TicketNow México\n\n\nCompra de boletos: https://eventos.ticketnowmexico.com/eventperformances.asp?evt=2200
URL:https://rocknews.mx/evento/dark-tranquility-guadalajara-mex-2026/
LOCATION:C3 Stage\, Av. Ignacio L Vallarta 1488\, Col Americana\, Lafayette\, Guadalajara\, Jalisco\, 44600\, Mexico
CATEGORIES:Concierto
ATTACH;FMTTYPE=image/jpeg:https://rocknews.mx/wp-content/uploads/2026/01/Dark-Tranquility-en-MX-FT.jpg
END:VEVENT
BEGIN:VEVENT
DTSTART;TZID=America/Chicago:20260117T190000
DTEND;TZID=America/Chicago:20260117T233000
DTSTAMP:20260421T164853
CREATED:20260106T233041Z
LAST-MODIFIED:20260107T160938Z
UID:188-1768676400-1768692600@rocknews.mx
SUMMARY:Avenged Sevenfold - CDMX\, Mex. 2026
DESCRIPTION:Avenged Sevenfold sacudirá CDMX con un show masivo en el Estadio GNP Seguros\nLa potencia del metal moderno llega a su punto máximo con el regreso de Avenged Sevenfold a la Ciudad de México\, donde la banda californiana se presentará el próximo 17 de enero en el Estadio GNP Seguros\, en lo que promete ser uno de los conciertos más grandes y esperados del año. \nCon una trayectoria que los ha llevado de los clubes underground a encabezar los festivales más importantes del mundo\, Avenged Sevenfold vuelve a México con un espectáculo de gran escala\, respaldado por una producción visual y sonora de primer nivel. El show incluirá un recorrido por los momentos clave de su discografía\, combinando clásicos infaltables con material más reciente\, manteniendo el equilibrio entre agresividad\, técnica y ambición artística que define a la banda. \nLa presentación en CDMX forma parte de su gira internacional\, en la que A7X ha reafirmado su estatus como una de las bandas más influyentes del metal del siglo XXI. Para los fans mexicanos\, esta fecha representa una oportunidad única de ver a la banda en un formato de estadio\, con un setlist diseñado para miles de voces coreando al unísono. \nEl Estadio GNP Seguros será el escenario de una noche intensa\, cargada de riffs demoledores\, solos virtuosos y una conexión directa con el público que Avenged Sevenfold ha sabido construir a lo largo de los años. Sin duda\, una cita obligada para los seguidores del metal en México.
URL:https://rocknews.mx/evento/avenged-sevenfold-cdmx-mex-2026/
LOCATION:Estadio GNP Seguros\, Viad. Río de la Piedad S/N\, Granjas México\, Iztacalco\, CDMX\, CDMX\, 08400\, Mexico
CATEGORIES:Concierto
ATTACH;FMTTYPE=image/jpeg:https://rocknews.mx/wp-content/uploads/2026/01/Avenged-Sevenfold-MX-2026-Ft.jpg
END:VEVENT
END:VCALENDAR