BEGIN:VCALENDAR
VERSION:2.0
PRODID:-//RockNews.mx - ECPv6.15.13.1//NONSGML v1.0//EN
CALSCALE:GREGORIAN
METHOD:PUBLISH
X-ORIGINAL-URL:https://rocknews.mx
X-WR-CALDESC:Eventos para RockNews.mx
REFRESH-INTERVAL;VALUE=DURATION:PT1H
X-Robots-Tag:noindex
X-PUBLISHED-TTL:PT1H
BEGIN:VTIMEZONE
TZID:America/Chicago
BEGIN:DAYLIGHT
TZOFFSETFROM:-0600
TZOFFSETTO:-0500
TZNAME:CDT
DTSTART:20250309T080000
END:DAYLIGHT
BEGIN:STANDARD
TZOFFSETFROM:-0500
TZOFFSETTO:-0600
TZNAME:CST
DTSTART:20251102T070000
END:STANDARD
BEGIN:DAYLIGHT
TZOFFSETFROM:-0600
TZOFFSETTO:-0500
TZNAME:CDT
DTSTART:20260308T080000
END:DAYLIGHT
BEGIN:STANDARD
TZOFFSETFROM:-0500
TZOFFSETTO:-0600
TZNAME:CST
DTSTART:20261101T070000
END:STANDARD
BEGIN:DAYLIGHT
TZOFFSETFROM:-0600
TZOFFSETTO:-0500
TZNAME:CDT
DTSTART:20270314T080000
END:DAYLIGHT
BEGIN:STANDARD
TZOFFSETFROM:-0500
TZOFFSETTO:-0600
TZNAME:CST
DTSTART:20271107T070000
END:STANDARD
END:VTIMEZONE
BEGIN:VEVENT
DTSTART;TZID=America/Chicago:20260301T170000
DTEND;TZID=America/Chicago:20260301T233000
DTSTAMP:20260421T181417
CREATED:20260111T224435Z
LAST-MODIFIED:20260111T224436Z
UID:319-1772384400-1772407800@rocknews.mx
SUMMARY:Todos Somos Angeles Rock Fest 2026 - Guadalajara\, Mex. 2026
DESCRIPTION:El Todos Somos Angeles Rock Fest 2026 Guadalajara cierra su recorrido con una fecha poderosa en la Arena Guadalajara. Angeles Del Infierno encabeza un cartel que cruza generaciones y estilos del metal. \nKabrönes mantiene la crudeza. Saratoga aporta elegancia metálica. Trágico Ballet refuerza la escena nacional. Cemican añade un ritual sonoro cargado de identidad y fuerza ancestral. \nAngeles Del Infierno contará nuevamente con Leo Jiménez como invitado especial. Una colaboración esperada por el público tapatío. \nLineup\n\n\n\n\n\nAngeles Del Infierno \n\n\nKabrönes \n\n\nSaratoga \n\n\nTrágico Ballet \n\n\nCemican \n\n\n\n\n\n\nInvitado especial: \n\n\nLeo Jiménez\n\n\nAdquiere tus entradas en https://tsarockfest.com/tickets/
URL:https://rocknews.mx/evento/todos-somos-angeles-rock-fest-2026-guadalajara-mex-2026/
LOCATION:Arena Guadalajara\, Perif. Nte. Ricardo Flores Magón Ote. 401\, El Verde( Planetario)\, Guadalajara\, Jalisco\, 44395\, Mexico
CATEGORIES:Festival
ATTACH;FMTTYPE=image/jpeg:https://rocknews.mx/wp-content/uploads/2026/01/gdl_2026_h_logo.jpg
END:VEVENT
BEGIN:VEVENT
DTSTART;TZID=America/Chicago:20260311T200000
DTEND;TZID=America/Chicago:20260311T233000
DTSTAMP:20260421T181417
CREATED:20260108T155535Z
LAST-MODIFIED:20260108T155638Z
UID:212-1773259200-1773271800@rocknews.mx
SUMMARY:Symphony X - Guadalajara\, Mex. 2026
DESCRIPTION:Symphony X en Guadalajara | 30th Anniversary Tour México\nSymphony X regresa a México como parte de su 30th Anniversary Tour\, celebrando tres décadas de metal progresivo. \n \nLa banda estadounidense se presentará el 11 de marzo en el C3 Stage de Guadalajara\, ofreciendo un recorrido por su extensa discografía. \nEl tour conmemora treinta años de trayectoria\, desde sus primeros lanzamientos hasta sus álbumes más representativos. \nEl show promete un setlist cargado de riffs complejos\, estructuras épicas y la poderosa voz de Russell Allen. \nGuadalajara será testigo de una noche enfocada en el virtuosismo instrumental y la precisión que caracteriza a Symphony X.
URL:https://rocknews.mx/evento/symphony-x-guadalajara-mex-2026/
LOCATION:C3 Stage\, Av. Ignacio L Vallarta 1488\, Col Americana\, Lafayette\, Guadalajara\, Jalisco\, 44600\, Mexico
CATEGORIES:Concierto
ATTACH;FMTTYPE=image/jpeg:https://rocknews.mx/wp-content/uploads/2026/01/Symphony-X-Guadalajara-FT.jpg
END:VEVENT
BEGIN:VEVENT
DTSTART;TZID=America/Chicago:20260312T200000
DTEND;TZID=America/Chicago:20260312T233000
DTSTAMP:20260421T181417
CREATED:20260108T163613Z
LAST-MODIFIED:20260108T163614Z
UID:224-1773345600-1773358200@rocknews.mx
SUMMARY:Symphony X - Monterrey\, Mex. 2026
DESCRIPTION:Symphony X en Monterrey | 30th Anniversary Tour México\nSymphony X continúa su gira por México celebrando 30 años como una de las bandas clave del metal progresivo. \n \nLa agrupación tocará el 12 de marzo en Nandas 78 Bar\, en un formato cercano y contundente. \nEl concierto presentará un repaso por los álbumes que definieron su sonido y su evolución musical. \nLa fecha en Monterrey destaca por la intensidad del show y la conexión directa con el público. \nSymphony X reafirma su estatus con un espectáculo técnico\, poderoso y ejecutado con absoluta precisión.
URL:https://rocknews.mx/evento/symphony-x-monterrey-mex-2026/
LOCATION:Nandas Barrio Antiguo\, Padre Mier 875\, Barrio Antiguo\, Centro\, Monterrey\, Nuevo León\, 64000\, Mexico
CATEGORIES:Concierto
ATTACH;FMTTYPE=image/jpeg:https://rocknews.mx/wp-content/uploads/2026/01/Symphony-X-Monterrey-FT.jpg
END:VEVENT
BEGIN:VEVENT
DTSTART;TZID=America/Chicago:20260313T190000
DTEND;TZID=America/Chicago:20260313T233000
DTSTAMP:20260421T181417
CREATED:20260106T231046Z
LAST-MODIFIED:20260106T231216Z
UID:182-1773428400-1773444600@rocknews.mx
SUMMARY:Moonspell (Orquesta) - CDMX\, Mex. 2026
DESCRIPTION:Moonspell llegará a CDMX con Opus Diabolicum en vivo junto a orquesta sinfónica\nLa legendaria banda portuguesa Moonspell regresa a la Ciudad de México para ofrecer un concierto especial el próximo 13 de marzo de 2026 en el Pepsi Center\, como parte de la presentación en vivo de su ambicioso álbum Opus Diabolicum. \n \nEste material\, lanzado el 31 de octubre\, fue grabado con la colaboración de la Orquestra Sinfonietta de Lisboa y muestra una faceta majestuosa y oscura de la banda\, fusionando su característico metal gótico con arreglos sinfónicos de gran intensidad. Durante el show\, Moonspell interpretará temas de este álbum\, incluyendo piezas fundamentales de 1755\, uno de los trabajos más aclamados de su discografía. \nLa presentación promete ser una experiencia única para los fans mexicanos\, combinando la fuerza del metal con la solemnidad de una orquesta en vivo\, creando una atmósfera intensa y ceremonial. Sin duda\, una cita imperdible para los seguidores del metal gótico en CDMX.
URL:https://rocknews.mx/evento/moonspell-orquesta-cdmx-mex-2026/
LOCATION:Pepsi Center\, Dakota s/n\, Nápoles\, Benito Juárez\, CDMX\, CDMX\, 03810\, Mexico
CATEGORIES:Concierto
ATTACH;FMTTYPE=image/jpeg:https://rocknews.mx/wp-content/uploads/2026/01/Moonspell-CDMX-2026.jpg
END:VEVENT
BEGIN:VEVENT
DTSTART;TZID=America/Chicago:20260313T200000
DTEND;TZID=America/Chicago:20260313T233000
DTSTAMP:20260421T181417
CREATED:20260108T160826Z
LAST-MODIFIED:20260108T160826Z
UID:219-1773432000-1773444600@rocknews.mx
SUMMARY:Symphony X - CDMX\, Mex. 2026
DESCRIPTION:Symphony X en CDMX | 30th Anniversary Tour México\nSymphony X cerrará su paso por México con un concierto especial en la Ciudad de México. \n \nLa banda se presentará el 13 de marzo en el Foro Velódromo\, como parte de su 30th Anniversary Tour. \nEl show incluirá clásicos esenciales y composiciones que marcaron su historia dentro del metal progresivo. \nLa fecha en CDMX promete una producción sólida y un setlist diseñado para fans de todas sus etapas. \nSymphony X entregará una noche épica dominada por virtuosismo\, fuerza y ejecución impecable.
URL:https://rocknews.mx/evento/symphony-x-cdmx-mex-2026/
LOCATION:Foro Velódromo\, Radamés Treviño S/N\, Jardín Balbuena\, Venustiano Carranza\, CDMX\, CDMX\, 15900\, Mexico
CATEGORIES:Concierto
ATTACH;FMTTYPE=image/jpeg:https://rocknews.mx/wp-content/uploads/2026/01/Symphony-X-CDMX-FT.jpg
END:VEVENT
BEGIN:VEVENT
DTSTART;TZID=America/Chicago:20260315T190000
DTEND;TZID=America/Chicago:20260315T233000
DTSTAMP:20260421T181417
CREATED:20260107T063529Z
LAST-MODIFIED:20260107T063646Z
UID:195-1773601200-1773617400@rocknews.mx
SUMMARY:Katatonia - CDMX\, Mex. 2026
DESCRIPTION:Katatonia regresa a la CDMX con un show imperdible en el Foro Velódromo\nLa banda sueca se presentará el 15 de marzo como parte de su gira latinoamericana\nLa oscuridad melódica de Katatonia volverá a envolver a la Ciudad de México el próximo 15 de marzo\, cuando la banda sueca se presente en el Foro Velódromo\, como parte de su gira latinoamericana\, un recorrido especialmente esperado por los seguidores del metal atmosférico y el rock oscuro. \nEn esta visita\, Katatonia llega presentando su más reciente álbum “Nightmares As Extensions Of The Waking State”\, una obra que profundiza en paisajes emocionales densos\, melancólicos y elegantes\, reafirmando el sello sonoro que la banda ha perfeccionado a lo largo de su carrera. \n \nUn viaje sonoro entre la melancolía y la introspección\nCon más de tres décadas de trayectoria\, Katatonia se ha consolidado como una de las bandas más influyentes del metal alternativo y progresivo\, destacando por su capacidad para crear atmósferas envolventes\, letras introspectivas y composiciones cargadas de emoción.El nuevo material\, “Nightmares As Extensions Of The Waking State”\, mantiene esa identidad sombría y reflexiva\, expandiéndola con arreglos más profundos y una producción que acentúa cada matiz emocional. \nEl show en la CDMX promete un setlist equilibrado\, combinando temas recientes con clásicos esenciales de su discografía\, en una noche pensada tanto para fans de larga data como para nuevas audiencias que han conectado con su sonido en esta nueva etapa. \nLa cita en el Foro Velódromo se perfila como uno de los eventos más destacados del primer trimestre del año para la escena alternativa y metalera en México\, reafirmando el fuerte vínculo entre Katatonia y su público latinoamericano.
URL:https://rocknews.mx/evento/katatonia-cdmx-mex-2026/
LOCATION:Foro Velódromo\, Radamés Treviño S/N\, Jardín Balbuena\, Venustiano Carranza\, CDMX\, CDMX\, 15900\, Mexico
CATEGORIES:Concierto
ATTACH;FMTTYPE=image/jpeg:https://rocknews.mx/wp-content/uploads/2026/01/Katatonia-CDMX-2026-FT.jpg
END:VEVENT
BEGIN:VEVENT
DTSTART;TZID=America/Chicago:20260320T190000
DTEND;TZID=America/Chicago:20260320T233000
DTSTAMP:20260421T181417
CREATED:20260106T203449Z
LAST-MODIFIED:20260106T203449Z
UID:171-1774033200-1774049400@rocknews.mx
SUMMARY:London After Midnight - CDMX\, Mex. 2026
DESCRIPTION:La oscuridad elegante vuelve a la CDMX. London After Midnight regresa a México para ofrecer un show especial el 20 de marzo de 2026 en el Auditorio BB\, una noche dedicada al goth rock y al post-punk que ha convertido a la banda californiana en un culto global. Con su estética nocturna\, atmósferas melancólicas y clásicos que atraviesan generaciones\, el grupo promete un ritual sonoro intenso y envolvente para sus seguidores mexicanos. \nPrepárate para una velada donde la nostalgia y la penumbra se dan la mano. Cita obligada para almas oscuras.
URL:https://rocknews.mx/evento/london-after-midnight-cdmx-mex-2026/
LOCATION:Auditorio BB\, Tlaxcala 160\, Hipódromo Condesa\, Cuauhtémoc\, CDMX\, CDMX\, 06170\, Mexico
CATEGORIES:Concierto
ATTACH;FMTTYPE=image/jpeg:https://rocknews.mx/wp-content/uploads/2026/01/London-After-Midnight-MX-2026-FT.jpg
END:VEVENT
BEGIN:VEVENT
DTSTART;TZID=America/Chicago:20260419T190000
DTEND;TZID=America/Chicago:20260419T233000
DTSTAMP:20260421T181417
CREATED:20260120T161950Z
LAST-MODIFIED:20260120T161952Z
UID:392-1776625200-1776641400@rocknews.mx
SUMMARY:Jinjer en CDMX\, Mex. 2026
DESCRIPTION:Jinjer en CDMX desata expectativa total\nJinjer en CDMX confirma concierto explosivo en el Circo Volador\, desatando expectativa máxima entre fans del metal. \nLa banda ucraniana liderada por Tatiana Shmaylyuk promete una experiencia intensa\, técnica y emocional\, con repertorio poderoso. \nQué esperar de este evento\nEl público capitalino recibirá un show cargado de groove progresivo\, cambios impredecibles y una ejecución que sacude cuerpos y mentes. \nLa conexión de Jinjer con México crece en cada visita\, consolidando una relación genuina con la escena metalera local. \nPrepárate para una noche inolvidable\, donde potencia\, virtuosismo y entrega total convertirán este concierto en referencia obligada del año. \nAdquiere ya tus boletos!
URL:https://rocknews.mx/evento/jinjer-en-cdmx-mex-2026/
LOCATION:Circo Volador\, Calz. de la Viga 146\, Jamaica\, Venustiano Carranza\, CDMX\, CDMX\, 15800\, Mexico
CATEGORIES:Concierto
ATTACH;FMTTYPE=image/jpeg:https://rocknews.mx/wp-content/uploads/2026/01/Flyer-Jinjer-CDMX-2026.jpg
END:VEVENT
BEGIN:VEVENT
DTSTART;TZID=America/Chicago:20260430T190000
DTEND;TZID=America/Chicago:20260430T233000
DTSTAMP:20260421T181417
CREATED:20260126T192814Z
LAST-MODIFIED:20260126T192815Z
UID:443-1777575600-1777591800@rocknews.mx
SUMMARY:A.N.I.M.A.L. en CDMX\, Mex. 2026
DESCRIPTION:A.N.I.M.A.L. en CDMX desata dos noches de furia en el Fuck Off Room\nLa leyenda del metal latinoamericano regresa con A.N.I.M.A.L. en CDMX 2026\, presentándose el 30 de abril y 1 de mayo en el Fuck Off Room. \nEstas fechas forman parte de su esperado Mexico Tour 2026\, una gira que promete un repertorio contundente\, directo y cargado de la energía que ha definido a la banda argentina. \nLos boletos ya se encuentran disponibles a través de Superboletos\, con precio de $805 pesos. \nA.N.I.M.A.L. con dos fechas imperdibles\nEl Fuck Off Room será el escenario perfecto para una experiencia intensa\, cercana y explosiva\, ideal para vivir el poder de A.N.I.M.A.L. como debe sentirse: sin filtros. \nEl evento es organizado por Zepeda Bros\, reafirmando su compromiso por traer propuestas sólidas y de alto impacto a la escena metalera nacional.
URL:https://rocknews.mx/evento/animal-en-cdmx-mex-2026-1/
LOCATION:Fuck Off Room\, Diagonal de Patriotismo 6\, Hipódromo Condesa\, CDMX\, CDMX\, 06140\, Mexico
CATEGORIES:Concierto
ATTACH;FMTTYPE=image/jpeg:https://rocknews.mx/wp-content/uploads/2026/01/ANIMAL-CDMX-2026-FT.jpg
END:VEVENT
BEGIN:VEVENT
DTSTART;TZID=America/Chicago:20260501T190000
DTEND;TZID=America/Chicago:20260501T233000
DTSTAMP:20260421T181417
CREATED:20260107T070725Z
LAST-MODIFIED:20260107T070725Z
UID:202-1777662000-1777678200@rocknews.mx
SUMMARY:Twisted Sister - CDMX\, Mex. 2026
DESCRIPTION:Twisted Sister regresa a México con un show histórico en el Velódromo Olímpico\nLa legendaria banda tocará en la CDMX este 1 de mayo\nEl hard rock más rebelde y explosivo regresa a la Ciudad de México. Twisted Sister ha confirmado su regreso a México con un show programado para el próximo 1 de mayo en el Velódromo Olímpico de la CDMX\, una fecha que promete convertirse en un evento histórico para varias generaciones de fans. \nLa banda neoyorquina\, ícono absoluto del heavy metal y el hard rock de los años 80\, vuelve a pisar suelo mexicano con un concierto que celebra su legado\, su actitud desafiante y una colección de himnos que siguen resonando con la misma fuerza que décadas atrás. \n \nUn reencuentro esperado con la historia del hard rock\nTwisted Sister marcó una época con su estética provocadora\, letras directas y una energía incendiaria sobre el escenario. Temas como “We’re Not Gonna Take It”\, “I Wanna Rock” y “The Price” no solo definieron una era\, sino que se convirtieron en declaraciones de identidad dentro del rock duro. \nEl concierto en el Velódromo Olímpico se perfila como una celebración del hard rock clásico\, con un setlist cargado de canciones esenciales\, pensado tanto para los seguidores que han acompañado a la banda desde sus inicios como para nuevas audiencias que han descubierto su música con el paso del tiempo. \nPara muchos fans\, esta fecha representa más que un concierto: es un reencuentro con una banda que convirtió la rebeldía en himno y el escenario en territorio propio.
URL:https://rocknews.mx/evento/twisted-sister-cdmx-mex-2026/
LOCATION:Velódromo Olímpico\, Radamés Treviño S/N\, Jardín Balbuena\, Venustiano Carranza\, CDMX\, CDMX\, 15900\, Mexico
CATEGORIES:Concierto
ATTACH;FMTTYPE=image/jpeg:https://rocknews.mx/wp-content/uploads/2026/01/Twisted-Sister-MX-2026-FT.jpg
END:VEVENT
BEGIN:VEVENT
DTSTART;TZID=America/Chicago:20260501T190000
DTEND;TZID=America/Chicago:20260501T233000
DTSTAMP:20260421T181417
CREATED:20260126T192848Z
LAST-MODIFIED:20260126T192849Z
UID:450-1777662000-1777678200@rocknews.mx
SUMMARY:A.N.I.M.A.L. en CDMX\, Mex. 2026
DESCRIPTION:A.N.I.M.A.L. en CDMX desata dos noches de furia en el Fuck Off Room\nLa leyenda del metal latinoamericano regresa con A.N.I.M.A.L. en CDMX 2026\, presentándose el 30 de abril y 1 de mayo en el Fuck Off Room. \nEstas fechas forman parte de su esperado Mexico Tour 2026\, una gira que promete un repertorio contundente\, directo y cargado de la energía que ha definido a la banda argentina. \nLos boletos ya se encuentran disponibles a través de Superboletos\, con precio de $805 pesos. \nA.N.I.M.A.L. con dos fechas imperdibles\nEl Fuck Off Room será el escenario perfecto para una experiencia intensa\, cercana y explosiva\, ideal para vivir el poder de A.N.I.M.A.L. como debe sentirse: sin filtros. \nEl evento es organizado por Zepeda Bros\, reafirmando su compromiso por traer propuestas sólidas y de alto impacto a la escena metalera nacional.
URL:https://rocknews.mx/evento/animal-en-cdmx-mex-2026-2/
LOCATION:Fuck Off Room\, Diagonal de Patriotismo 6\, Hipódromo Condesa\, CDMX\, CDMX\, 06140\, Mexico
CATEGORIES:Concierto
ATTACH;FMTTYPE=image/jpeg:https://rocknews.mx/wp-content/uploads/2026/01/ANIMAL-CDMX-2026-FT.jpg
END:VEVENT
BEGIN:VEVENT
DTSTART;TZID=America/Chicago:20260501T200000
DTEND;TZID=America/Chicago:20260501T233000
DTSTAMP:20260421T181417
CREATED:20260129T215940Z
LAST-MODIFIED:20260129T220141Z
UID:457-1777665600-1777678200@rocknews.mx
SUMMARY:Tankard en CDMX\, Mex. 2026
DESCRIPTION:Tankard en CDMX! La leyenda alemana del thrash metal estará presentándose el 1 de mayo de 2026 en el Multiforo Alicia. El concierto forma parte de la gira “Kings of Beer Over Latin America”\, una celebración de velocidad\, cerveza y actitud sin concesiones. Todo esto de la mano de Eyescream Productions. \nEste show marca un momento histórico para el público mexicano\, ya que Tankard se presentará por primera vez en la Ciudad de México con un concierto completo\, sin formar parte de un festival. Será una noche dedicada exclusivamente al caos etílico y al thrash más clásico\, donde ademas se estara presentando la banda Speedfreak! \nFormados en Frankfurt en 1982\, Tankard es parte del legendario “Big Teutonic 4”\, junto a Kreator\, Sodom y Destruction. Su propuesta combina riffs veloces\, letras irreverentes y una identidad que convirtió a la cerveza en estandarte cultural del metal extremo. \nDe Tankard en CDMX se espera un recorrido explosivo por su discografía\, incluyendo himnos como “Zombie Attack”\, “Chemical Invasion” y “The Morning After”. El formato íntimo del Multiforo Alicia promete un ambiente sudoroso\, cercano y brutal. \nLa gira “Kings of Beer Over Latin America” reafirma la conexión de Tankard con sus seguidores en la región. El 1 de mayo de 2026\, la Ciudad de México será testigo de una descarga de thrash metal puro\, directa desde Alemania y servida bien fría.
URL:https://rocknews.mx/evento/tankard-en-cdmx-mex-2026/
LOCATION:Multiforo Alicia\, C. Eligio Ancona 145\, Sta María la Ribera\, Cuauhtémoc\, CDMX\, CDMX\, 06400\, Mexico
CATEGORIES:Concierto
ATTACH;FMTTYPE=image/jpeg:https://rocknews.mx/wp-content/uploads/2026/01/Tankard-CDMX-2026-FT.jpg
ORGANIZER;CN="Eyescream Productions":MAILTO:info@eyescreamconcerts.com
END:VEVENT
BEGIN:VEVENT
DTSTART;TZID=America/Chicago:20260502T190000
DTEND;TZID=America/Chicago:20260502T233000
DTSTAMP:20260421T181417
CREATED:20260106T055312Z
LAST-MODIFIED:20260106T055920Z
UID:149-1777748400-1777764600@rocknews.mx
SUMMARY:In Flames - CDMX\, Mex. 2026
DESCRIPTION:La banda sueca In Flames\, referente absoluto del metal moderno y pioneros del sonido de Gotemburgo\, regresa a la Ciudad de México para una noche que promete intensidad total.\nEl 2 de mayo\, el Circo Volador será testigo de un show cargado de riffs afilados\, melodías contundentes y una carrera que ha marcado a generaciones del metal internacional. \nCon un setlist que suele combinar clásicos con material más reciente\, In Flames llega listo para encender uno de los recintos más emblemáticos del metal en la capital. Una cita obligada para fans del death metal melódico y sonidos extremos con identidad propia.
URL:https://rocknews.mx/evento/in-flames-cdmx-mex-2026/
LOCATION:Circo Volador\, Calz. de la Viga 146\, Jamaica\, Venustiano Carranza\, CDMX\, CDMX\, 15800\, Mexico
CATEGORIES:Concierto
ATTACH;FMTTYPE=image/jpeg:https://rocknews.mx/wp-content/uploads/2026/01/In-Flames-MX-Tour-Ft.jpg
END:VEVENT
BEGIN:VEVENT
DTSTART;TZID=America/Chicago:20260503T190000
DTEND;TZID=America/Chicago:20260503T233000
DTSTAMP:20260421T181417
CREATED:20260106T060530Z
LAST-MODIFIED:20260106T061107Z
UID:157-1777834800-1777851000@rocknews.mx
SUMMARY:In Flames - Monterrey\, Mex. 2026
DESCRIPTION:In Flames continúa su paso por México con una parada en Monterrey\, presentándose el 3 de mayo en el Showcenter Complex. La banda sueca trae consigo décadas de trayectoria\, evolución musical y un directo potente que se mantiene vigente en la escena global. \nEl público regiomontano podrá disfrutar de un espectáculo sólido\, donde conviven la agresividad del metal extremo con pasajes melódicos que ya son sello de la banda. Una noche diseñada para corear\, sacudir la cabeza y celebrar la historia viva del metal europeo en suelo mexicano.
URL:https://rocknews.mx/evento/in-flames-monterrey-mex-2026/
LOCATION:Showcenter Complex\, Av. Batallón de San Patricio 1000\, Zona San Agustín\, San Pedro Garza García\, Nuevo León\, 66266\, Mexico
CATEGORIES:Concierto
ATTACH;FMTTYPE=image/jpeg:https://rocknews.mx/wp-content/uploads/2026/01/In-Flames-MX-Tour-Ft.jpg
END:VEVENT
BEGIN:VEVENT
DTSTART;TZID=America/Chicago:20260505T190000
DTEND;TZID=America/Chicago:20260505T233000
DTSTAMP:20260421T181417
CREATED:20260106T061027Z
LAST-MODIFIED:20260106T061027Z
UID:159-1778007600-1778023800@rocknews.mx
SUMMARY:In Flames - Guadalajara\, Mex. 2026
DESCRIPTION:El 5 de mayo\, In Flames llegará a Guadalajara para presentarse en el C4 Concert House\, uno de los foros clave para los shows de metal en la ciudad. La banda sueca suma esta fecha como parte de su visita a México\, llevando su poderoso directo al público tapatío. \nCon una producción contundente y una ejecución precisa\, In Flames promete una velada intensa\, ideal tanto para seguidores de larga data como para quienes han conectado con su etapa más reciente. Metal melódico\, fuerza escénica y una noche que apunta a ser memorable.
URL:https://rocknews.mx/evento/in-flames-guadalajara-mex-2026/
LOCATION:C4 Concert House\, Av. Patria 2440\, Colli Urbano\, Zapopan\, Jalisco\, 45070\, Mexico
CATEGORIES:Concierto
ATTACH;FMTTYPE=image/jpeg:https://rocknews.mx/wp-content/uploads/2026/01/In-Flames-MX-Tour-Ft.jpg
END:VEVENT
BEGIN:VEVENT
DTSTART;TZID=America/Chicago:20260822T190000
DTEND;TZID=America/Chicago:20260822T233000
DTSTAMP:20260421T181417
CREATED:20260120T174437Z
LAST-MODIFIED:20260120T174438Z
UID:396-1787425200-1787441400@rocknews.mx
SUMMARY:(Sold Out) Lacrimosa con Orquesta - CDMX\, Mex. 2026
DESCRIPTION:Lacrimosa con Orquesta!\nLa legendaria agrupación Lacrimosa ha encendido al público mexicano con un anuncio que marca un antes y un después en su historia en México. El próximo 22 de agosto de 2026\, veremos a Lacrimosa con Orquesta\, la banda liderada por Tilo Wolff y Anne Nurmi ofrecerá su primer concierto acompañado de orquesta sinfónica en la Arena Ciudad de México\, una experiencia sonora que transforma su repertorio gótico en un espectáculo sin precedentes. \nUn show único con orquesta\nEste evento promete ser uno de los momentos más memorables para los fans del metal gótico y de Lacrimosa en el país. A diferencia de sus conciertos habituales\, esta presentación fusiona el sonido dramático y oscuro de la banda con la riqueza instrumental de una orquesta en vivo\, intensificando cada tema con una nueva dimensión musical. \nLa Arena Ciudad de México\, con capacidad para más de 22 mil asistentes\, será el escenario de este hito en la carrera de la banda. La elección de este recinto para la primera fecha refleja la magnitud del espectáculo y la expectativa de una audiencia que ha seguido a Lacrimosa desde los inicios de su carrera. \nVenta de boletos y detalles\nLa venta de entradas para esta noche histórica comenzó con preventa exclusiva para fans y una venta general que abrió meses antes del evento\, lo que llevó a un interés masivo y rápido agotamiento en muchas secciones del recinto. La oferta incluyó boletos desde zonas generales hasta pases VIP con beneficios especiales. \nEvento producido por Dilemma!
URL:https://rocknews.mx/evento/sold-out-lacrimosa-con-orquesta-cdmx-mex-2026/
LOCATION:Arena CDMX\, Av. de las Granjas 800\, Santa Barbara\, Azcapotzalco\, CDMX\, CDMX\, 02230\, Mexico
CATEGORIES:Concierto
ATTACH;FMTTYPE=image/jpeg:https://rocknews.mx/wp-content/uploads/2026/01/Flyer-Lacrimosa-con-Orquesta-CDMX-2026-1.jpg
END:VEVENT
BEGIN:VEVENT
DTSTART;TZID=America/Chicago:20260823T190000
DTEND;TZID=America/Chicago:20260823T233000
DTSTAMP:20260421T181417
CREATED:20260120T175413Z
LAST-MODIFIED:20260120T175414Z
UID:400-1787511600-1787527800@rocknews.mx
SUMMARY:Lacrimosa con Orquesta - CDMX\, Mex. 2026
DESCRIPTION:Segunda fecha de Lacrimosa con Orquesta!\nEl impacto de Lacrimosa con Orquesta CDMX 2026 ha sido inmediato. La primera fecha en la Arena Ciudad de México agotó localidades en tiempo récord. \nAnte la alta demanda\, la banda confirmó una segunda fecha en CDMX durante 2026\, permitiendo que más fans vivan esta experiencia sinfónica única. \nEste formato con orquesta marca un momento histórico para Lacrimosa en México. La fusión entre su estética oscura y el poder sinfónico promete una noche inolvidable. \nLa respuesta del público mexicano reafirma el vínculo profundo entre la banda y sus seguidores. Lacrimosa mantiene así su estatus como uno de los actos más queridos del género. \nLos boletos para la nueva fecha ya generan alta expectativa. Se recomienda asegurar entradas cuanto antes para no sufrir el Sold Out. \nEvento producido por Dilemma!
URL:https://rocknews.mx/evento/lacrimosa-con-orquesta-cdmx-mex-2026/
LOCATION:Arena CDMX\, Av. de las Granjas 800\, Santa Barbara\, Azcapotzalco\, CDMX\, CDMX\, 02230\, Mexico
CATEGORIES:Concierto
ATTACH;FMTTYPE=image/jpeg:https://rocknews.mx/wp-content/uploads/2026/01/Flyer-Lacrimosa-con-Orquesta-CDMX-2026-2.jpg
END:VEVENT
END:VCALENDAR