BEGIN:VCALENDAR
VERSION:2.0
PRODID:-//RockNews.mx - ECPv6.15.13.1//NONSGML v1.0//EN
CALSCALE:GREGORIAN
METHOD:PUBLISH
X-WR-CALNAME:RockNews.mx
X-ORIGINAL-URL:https://rocknews.mx
X-WR-CALDESC:Eventos para RockNews.mx
REFRESH-INTERVAL;VALUE=DURATION:PT1H
X-Robots-Tag:noindex
X-PUBLISHED-TTL:PT1H
BEGIN:VTIMEZONE
TZID:America/Chicago
BEGIN:DAYLIGHT
TZOFFSETFROM:-0600
TZOFFSETTO:-0500
TZNAME:CDT
DTSTART:20250309T080000
END:DAYLIGHT
BEGIN:STANDARD
TZOFFSETFROM:-0500
TZOFFSETTO:-0600
TZNAME:CST
DTSTART:20251102T070000
END:STANDARD
BEGIN:DAYLIGHT
TZOFFSETFROM:-0600
TZOFFSETTO:-0500
TZNAME:CDT
DTSTART:20260308T080000
END:DAYLIGHT
BEGIN:STANDARD
TZOFFSETFROM:-0500
TZOFFSETTO:-0600
TZNAME:CST
DTSTART:20261101T070000
END:STANDARD
BEGIN:DAYLIGHT
TZOFFSETFROM:-0600
TZOFFSETTO:-0500
TZNAME:CDT
DTSTART:20270314T080000
END:DAYLIGHT
BEGIN:STANDARD
TZOFFSETFROM:-0500
TZOFFSETTO:-0600
TZNAME:CST
DTSTART:20271107T070000
END:STANDARD
END:VTIMEZONE
BEGIN:VEVENT
DTSTART;TZID=America/Chicago:20260822T190000
DTEND;TZID=America/Chicago:20260822T233000
DTSTAMP:20260421T213525
CREATED:20260120T174437Z
LAST-MODIFIED:20260120T174438Z
UID:396-1787425200-1787441400@rocknews.mx
SUMMARY:(Sold Out) Lacrimosa con Orquesta - CDMX\, Mex. 2026
DESCRIPTION:Lacrimosa con Orquesta!\nLa legendaria agrupación Lacrimosa ha encendido al público mexicano con un anuncio que marca un antes y un después en su historia en México. El próximo 22 de agosto de 2026\, veremos a Lacrimosa con Orquesta\, la banda liderada por Tilo Wolff y Anne Nurmi ofrecerá su primer concierto acompañado de orquesta sinfónica en la Arena Ciudad de México\, una experiencia sonora que transforma su repertorio gótico en un espectáculo sin precedentes. \nUn show único con orquesta\nEste evento promete ser uno de los momentos más memorables para los fans del metal gótico y de Lacrimosa en el país. A diferencia de sus conciertos habituales\, esta presentación fusiona el sonido dramático y oscuro de la banda con la riqueza instrumental de una orquesta en vivo\, intensificando cada tema con una nueva dimensión musical. \nLa Arena Ciudad de México\, con capacidad para más de 22 mil asistentes\, será el escenario de este hito en la carrera de la banda. La elección de este recinto para la primera fecha refleja la magnitud del espectáculo y la expectativa de una audiencia que ha seguido a Lacrimosa desde los inicios de su carrera. \nVenta de boletos y detalles\nLa venta de entradas para esta noche histórica comenzó con preventa exclusiva para fans y una venta general que abrió meses antes del evento\, lo que llevó a un interés masivo y rápido agotamiento en muchas secciones del recinto. La oferta incluyó boletos desde zonas generales hasta pases VIP con beneficios especiales. \nEvento producido por Dilemma!
URL:https://rocknews.mx/evento/sold-out-lacrimosa-con-orquesta-cdmx-mex-2026/
LOCATION:Arena CDMX\, Av. de las Granjas 800\, Santa Barbara\, Azcapotzalco\, CDMX\, CDMX\, 02230\, Mexico
CATEGORIES:Concierto
ATTACH;FMTTYPE=image/jpeg:https://rocknews.mx/wp-content/uploads/2026/01/Flyer-Lacrimosa-con-Orquesta-CDMX-2026-1.jpg
END:VEVENT
BEGIN:VEVENT
DTSTART;TZID=America/Chicago:20260823T190000
DTEND;TZID=America/Chicago:20260823T233000
DTSTAMP:20260421T213525
CREATED:20260120T175413Z
LAST-MODIFIED:20260120T175414Z
UID:400-1787511600-1787527800@rocknews.mx
SUMMARY:Lacrimosa con Orquesta - CDMX\, Mex. 2026
DESCRIPTION:Segunda fecha de Lacrimosa con Orquesta!\nEl impacto de Lacrimosa con Orquesta CDMX 2026 ha sido inmediato. La primera fecha en la Arena Ciudad de México agotó localidades en tiempo récord. \nAnte la alta demanda\, la banda confirmó una segunda fecha en CDMX durante 2026\, permitiendo que más fans vivan esta experiencia sinfónica única. \nEste formato con orquesta marca un momento histórico para Lacrimosa en México. La fusión entre su estética oscura y el poder sinfónico promete una noche inolvidable. \nLa respuesta del público mexicano reafirma el vínculo profundo entre la banda y sus seguidores. Lacrimosa mantiene así su estatus como uno de los actos más queridos del género. \nLos boletos para la nueva fecha ya generan alta expectativa. Se recomienda asegurar entradas cuanto antes para no sufrir el Sold Out. \nEvento producido por Dilemma!
URL:https://rocknews.mx/evento/lacrimosa-con-orquesta-cdmx-mex-2026/
LOCATION:Arena CDMX\, Av. de las Granjas 800\, Santa Barbara\, Azcapotzalco\, CDMX\, CDMX\, 02230\, Mexico
CATEGORIES:Concierto
ATTACH;FMTTYPE=image/jpeg:https://rocknews.mx/wp-content/uploads/2026/01/Flyer-Lacrimosa-con-Orquesta-CDMX-2026-2.jpg
END:VEVENT
END:VCALENDAR