BEGIN:VCALENDAR
VERSION:2.0
PRODID:-//RockNews.mx - ECPv6.15.13.1//NONSGML v1.0//EN
CALSCALE:GREGORIAN
METHOD:PUBLISH
X-ORIGINAL-URL:https://rocknews.mx
X-WR-CALDESC:Eventos para RockNews.mx
REFRESH-INTERVAL;VALUE=DURATION:PT1H
X-Robots-Tag:noindex
X-PUBLISHED-TTL:PT1H
BEGIN:VTIMEZONE
TZID:America/Chicago
BEGIN:DAYLIGHT
TZOFFSETFROM:-0600
TZOFFSETTO:-0500
TZNAME:CDT
DTSTART:20250309T080000
END:DAYLIGHT
BEGIN:STANDARD
TZOFFSETFROM:-0500
TZOFFSETTO:-0600
TZNAME:CST
DTSTART:20251102T070000
END:STANDARD
BEGIN:DAYLIGHT
TZOFFSETFROM:-0600
TZOFFSETTO:-0500
TZNAME:CDT
DTSTART:20260308T080000
END:DAYLIGHT
BEGIN:STANDARD
TZOFFSETFROM:-0500
TZOFFSETTO:-0600
TZNAME:CST
DTSTART:20261101T070000
END:STANDARD
BEGIN:DAYLIGHT
TZOFFSETFROM:-0600
TZOFFSETTO:-0500
TZNAME:CDT
DTSTART:20270314T080000
END:DAYLIGHT
BEGIN:STANDARD
TZOFFSETFROM:-0500
TZOFFSETTO:-0600
TZNAME:CST
DTSTART:20271107T070000
END:STANDARD
END:VTIMEZONE
BEGIN:VEVENT
DTSTART;TZID=America/Chicago:20260228T180000
DTEND;TZID=America/Chicago:20260228T233000
DTSTAMP:20260421T233050
CREATED:20260120T225440Z
LAST-MODIFIED:20260120T231632Z
UID:404-1772301600-1772321400@rocknews.mx
SUMMARY:Guanatos Attack 2026 - Tepic\, Mex. 2026
DESCRIPTION:Guanatos Attack 2026 sacude Tepic con potente lineup\nEl Guanatos Attack 2026 confirma su llegada al Foro TromBob de Tepic\, Nayarit. El evento promete una noche intensa dedicada al metal extremo nacional. \nEste evento reunirá a seis bandas con propuestas sólidas y trayectoria dentro de la escena. La cita será obligatoria para los seguidores del sonido oscuro y agresivo. \nEl lineup incluye a Tenebrarum\, Elitania\, Mass Murder\, Naurum\, Terror Grinder y Guerra contra Todo. Una combinación diseñada para mantener la energía al límite. \nEl Foro TromBob será la sede de Guanatos Attack 2026 en Tepic y el acceso tendrá un costo de $200.00 pesos. Un precio accesible para disfrutar una experiencia contundente dentro de la escena metalera nacional. \n\nLineup completo de Guanatos Attack 2026\n\n\n\n\n\nTenebrarum \n\n\nElitania \n\n\nMass Murder \n\n\nNaurum \n\n\nTerror Grinder \n\n\nGuerra contra Todo \n\n\n\n\n\n\nEnlace al evento en Facebook!
URL:https://rocknews.mx/evento/guanatos-attack-2026-tepic-mex-2026/
LOCATION:Foro Trombob\, Fresno 111\, San Juan\, Tepic\, Nayarit\, 63130\, Mexico
CATEGORIES:Festival
ATTACH;FMTTYPE=image/jpeg:https://rocknews.mx/wp-content/uploads/2026/01/Guanatos-Attack-2026-Tepic.jpg
END:VEVENT
END:VCALENDAR