BEGIN:VCALENDAR
VERSION:2.0
PRODID:-//RockNews.mx - ECPv6.15.13.1//NONSGML v1.0//EN
CALSCALE:GREGORIAN
METHOD:PUBLISH
X-WR-CALNAME:RockNews.mx
X-ORIGINAL-URL:https://rocknews.mx
X-WR-CALDESC:Eventos para RockNews.mx
REFRESH-INTERVAL;VALUE=DURATION:PT1H
X-Robots-Tag:noindex
X-PUBLISHED-TTL:PT1H
BEGIN:VTIMEZONE
TZID:America/Chicago
BEGIN:DAYLIGHT
TZOFFSETFROM:-0600
TZOFFSETTO:-0500
TZNAME:CDT
DTSTART:20250309T080000
END:DAYLIGHT
BEGIN:STANDARD
TZOFFSETFROM:-0500
TZOFFSETTO:-0600
TZNAME:CST
DTSTART:20251102T070000
END:STANDARD
BEGIN:DAYLIGHT
TZOFFSETFROM:-0600
TZOFFSETTO:-0500
TZNAME:CDT
DTSTART:20260308T080000
END:DAYLIGHT
BEGIN:STANDARD
TZOFFSETFROM:-0500
TZOFFSETTO:-0600
TZNAME:CST
DTSTART:20261101T070000
END:STANDARD
BEGIN:DAYLIGHT
TZOFFSETFROM:-0600
TZOFFSETTO:-0500
TZNAME:CDT
DTSTART:20270314T080000
END:DAYLIGHT
BEGIN:STANDARD
TZOFFSETFROM:-0500
TZOFFSETTO:-0600
TZNAME:CST
DTSTART:20271107T070000
END:STANDARD
END:VTIMEZONE
BEGIN:VEVENT
DTSTART;TZID=America/Chicago:20260301T170000
DTEND;TZID=America/Chicago:20260301T233000
DTSTAMP:20260421T200437
CREATED:20260111T224435Z
LAST-MODIFIED:20260111T224436Z
UID:319-1772384400-1772407800@rocknews.mx
SUMMARY:Todos Somos Angeles Rock Fest 2026 - Guadalajara\, Mex. 2026
DESCRIPTION:El Todos Somos Angeles Rock Fest 2026 Guadalajara cierra su recorrido con una fecha poderosa en la Arena Guadalajara. Angeles Del Infierno encabeza un cartel que cruza generaciones y estilos del metal. \nKabrönes mantiene la crudeza. Saratoga aporta elegancia metálica. Trágico Ballet refuerza la escena nacional. Cemican añade un ritual sonoro cargado de identidad y fuerza ancestral. \nAngeles Del Infierno contará nuevamente con Leo Jiménez como invitado especial. Una colaboración esperada por el público tapatío. \nLineup\n\n\n\n\n\nAngeles Del Infierno \n\n\nKabrönes \n\n\nSaratoga \n\n\nTrágico Ballet \n\n\nCemican \n\n\n\n\n\n\nInvitado especial: \n\n\nLeo Jiménez\n\n\nAdquiere tus entradas en https://tsarockfest.com/tickets/
URL:https://rocknews.mx/evento/todos-somos-angeles-rock-fest-2026-guadalajara-mex-2026/
LOCATION:Arena Guadalajara\, Perif. Nte. Ricardo Flores Magón Ote. 401\, El Verde( Planetario)\, Guadalajara\, Jalisco\, 44395\, Mexico
CATEGORIES:Festival
ATTACH;FMTTYPE=image/jpeg:https://rocknews.mx/wp-content/uploads/2026/01/gdl_2026_h_logo.jpg
END:VEVENT
END:VCALENDAR